Workbook

Sheet VALORES
A1: APROVAÇÃO DE PROJETO | B1: VALOR BASE | C1: MULTIPLICADOR | D1: VALOR TOTAL
A2: Aprovação de projeto | B2: 0.76 | C2: =REQUERIMENTO!D13 -> 45 | D2: =C2*B2 -> 34.2
A3: Vistoria para averbação | B3: 32.39 | C3: 1 | D3: =C3*B3 -> 32.39
A4: Licença para construção | B4: 32.39 | C4: 1 | D4: =C4*B4 -> 32.39
A5: Alvará de regularização | B5: 32.39 | C5: 1 | D5: =C5*B5 -> 32.39
A6: Habite-se | B6: 32.39 | C6: 1 | D6: =C6*B6 -> 32.39
A7: Alinhamento de lote | B7: 2.16 | C7: =REQUERIMENTO!D18 -> 45 | D7: =C7*B7 -> 97.2
A8: Numeração | B8: 25.91 | C8: 1 | D8: =C8*B8 -> 25.91
A9: Certidão (Diversas) | B9: 23.75 | C9: 1 | D9: =C9*B9 -> 23.75
A10: Aprovação de croqui | B10: 25.91 | C10: =REQUERIMENTO!K15 -> - | D10: =C10*B10 -> #VALUE!
A11: Demolição | B11: 0.51 | C11: =REQUERIMENTO!K16 -> - | D11: =C11*B11 -> #VALUE!
A12: Outro Serviços | B12: 19.44 | C12: 1 | D12: =C12*B12 -> 19.44

Sheet REQUERIMENTO
A8: EXMO SR.
A9: SECRETÁRIO M. DE OBRAS PÚBLICAS E SERVIÇOS URBANOS DO MUNICÍPIO DE ITURAMA
A11: FULANO DE TAL | G11: residente em ITURAMA-MG
A12: Abaixo assinado, vem respeitosamente requerer de Vossa Senhoria que se digne conceder-lhe:
A13: X | B13: 1 | C13: Aprovação de projeto | D13: 45 | E13: m² | F13: R$ | G13: =IF(A13="x",VALORES!D2,0) -> 34.2 | I13: 7 | J13: Numeração | M13: R$ | N13: =IF(H13="x",VALORES!D8,0) -> 0
A14: X | B14: 2 | C14: Vistoria para averbação | F14: R$ | G14: =IF(A14="x",VALORES!D3,0) -> 32.39 | I14: 8 | J14: Certidão (Diversas) | M14: R$ | N14: =IF(H14="x",VALORES!D9,0) -> 0
B15: 3 | C15: Licença para construção | F15: R$ | G15: =IF(A15="x",VALORES!D4,0) -> 0 | I15: 9 | J15: Aprovação de croqui | K15: =IF(H15="x",#REF!,"-" ) -> - | L15: m² | M15: R$ | N15: =IF(H15="x",VALORES!D10,0) -> 0
A16: X | B16: 4 | C16: Alvará de regularização | F16: R$ | G16: =IF(A16="x",VALORES!D5,0) -> 32.39 | I16: 10 | J16: Demolição | K16: =IF(H16="x",#REF!,"-" ) -> - | L16: m² | M16: R$ | N16: =IF(H16="x",VALORES!D11,0) -> 0
A17: X | B17: 5 | C17: Habite-se | F17: R$ | G17: =IF(A17="x",VALORES!D6,0) -> 32.39 | I17: 11 | J17: Outro Serviços | M17: R$ | N17: =IF(H17="x",VALORES!D12,0) -> 0
A18: X | B18: 6 | C18: Alinhamento de lote | D18: 45 | E18: m² | F18: R$ | G18: =IF(A18="x",VALORES!D7,0) -> 97.2
A20: Projeto para construção de um imóvel localizada na Avenida/Rua xx N. xx em parte do Lote xx da Quadraxx, bairro xx, Iturama-MG
A25: CPF/CNPJ | D25: XXX | I25: Valor total das taxas (R$): | M25: =(IF(A13="x",G13,0)+IF(A14="x",G14,0)+IF(A15="x",G15,0)+IF(A16="x",G16,0)+IF(A17="x",G17,0)+IF(A18="x",G18,0)+IF(H13="x",N13,0)+IF(H14="x",N14,0)+IF(H15="x",N15,0)+IF(H16="x",N16,0)+IF(H17="x",N17,0)) -> 228.57
A26: Ins. Cadastral: | D26: XXX | I26: Visto para isenção de taxas:
A27: ENDEREÇO PARA CORRESPONDÊNCIA
A28: Rua/Av: | C28: XXX | H28: Nº | I28: XXX | J28: Bairro: | K28: XXX
A29: Telefone: | D29: XXXX | J29: e-mail: | K29: XXX
A30: OBSERVAÇÃO: | D30: R.T XXXX
E33: N. termos,
E34: P. Deferimento
E36: Iturama-MG, | H36: =TODAY() -> 45182
G41: REQUERENTE
A44: Av. Alexandrita, nº 1314 - B. Jardim Eldorado - PABX (34) 3411-9500 CEP 38280-000 - ITURAMA-MG
